BEGIN:VCALENDAR
VERSION:2.0
PRODID:-//Plone.org//NONSGML plone.app.event//EN
X-WR-TIMEZONE:Pacific/Auckland
BEGIN:VEVENT
SUMMARY:April Adventures 2016
DTSTART;VALUE=DATE-TIME:20160402T220000Z
DTEND;VALUE=DATE-TIME:20160403T040000Z
DTSTAMP;VALUE=DATE-TIME:20260425T030110Z
UID:6e212ed6b0874209ab3453f16c7f65fc
CATEGORIES:Monthly Run
CONTACT:Mel & Gill Peters\, classicmotoringsocietynzinc@gmail.com
CREATED;VALUE=DATE-TIME:20160323T004717Z
DESCRIPTION:CMSNZ's regular\, first Sunday of the month\, run. It looks as
  though we'll be going north this month!
LAST-MODIFIED;VALUE=DATE-TIME:20160328T233903Z
LOCATION:Christchurch
URL:https://www.cmsnz.org.nz/events/april-adventures-2016
END:VEVENT
END:VCALENDAR
