BEGIN:VCALENDAR
VERSION:2.0
PRODID:-//Plone.org//NONSGML plone.app.event//EN
X-WR-TIMEZONE:Pacific/Auckland
BEGIN:VEVENT
SUMMARY:April Adventure
DTSTART;VALUE=DATE-TIME:20110402T223000Z
DTEND;VALUE=DATE-TIME:20110403T040000Z
DTSTAMP;VALUE=DATE-TIME:20260425T011201Z
UID:33326576adffc7d2552ca197850dca5d
CATEGORIES:Monthly Run
CONTACT:Julian Barrett\, jkbarrett@clear.net.nz
CREATED;VALUE=DATE-TIME:20101129T214648Z
DESCRIPTION:Monthly Sunday run organised by the Classic Motoring Society
LAST-MODIFIED;VALUE=DATE-TIME:20101129T214706Z
LOCATION:Christchurch
URL:https://www.cmsnz.org.nz/events/april-adventure
END:VEVENT
END:VCALENDAR
