BEGIN:VCALENDAR
VERSION:2.0
PRODID:-//Plone.org//NONSGML plone.app.event//EN
X-WR-TIMEZONE:Pacific/Auckland
BEGIN:VEVENT
SUMMARY:Appreciation of American Automobilia Run!
DTSTART;VALUE=DATE-TIME:20100703T223000Z
DTEND;VALUE=DATE-TIME:20100704T040000Z
DTSTAMP;VALUE=DATE-TIME:20260425T030918Z
UID:937fff42b54b6d6485ddc85c1f8ee9d8
CATEGORIES:Monthly Run
CONTACT:Mel Peters\, (03) 337 4144\, petersmg@ihug.co.nz
CREATED;VALUE=DATE-TIME:20100331T232257Z
DESCRIPTION:Opportunity for the American cars to come out of hiding and jo
 in the Classic Motoring Society on a run.
LAST-MODIFIED;VALUE=DATE-TIME:20100610T044431Z
LOCATION:Christchurch
URL:https://www.cmsnz.org.nz/events/appreciation-of-american-automobilia-r
 un
END:VEVENT
END:VCALENDAR
