BEGIN:VCALENDAR
VERSION:2.0
PRODID:-//Plone.org//NONSGML plone.app.event//EN
X-WR-TIMEZONE:Pacific/Auckland
BEGIN:VEVENT
SUMMARY:Amazing April Run 2015
DTSTART;VALUE=DATE-TIME:20150403T213000Z
DTEND;VALUE=DATE-TIME:20150404T050000Z
DTSTAMP;VALUE=DATE-TIME:20260425T005251Z
UID:1ccba5e7eb914bc1a04ad2a0553a0e88
CATEGORIES:Monthly Run
CREATED;VALUE=DATE-TIME:20150304T065747Z
DESCRIPTION:The CMSNZ's regular\, first Sunday of the month\, run falls on
  Easter Sunday this year.
LAST-MODIFIED;VALUE=DATE-TIME:20150304T070949Z
LOCATION:Christchurch
URL:https://www.cmsnz.org.nz/events/amazing-april-run-2015
END:VEVENT
END:VCALENDAR
