BEGIN:VCALENDAR
VERSION:2.0
PRODID:-//Plone.org//NONSGML plone.app.event//EN
X-WR-TIMEZONE:Pacific/Auckland
BEGIN:VEVENT
SUMMARY:Amazing April 2010
DTSTART;VALUE=DATE-TIME:20100410T223000Z
DTEND;VALUE=DATE-TIME:20100411T040000Z
DTSTAMP;VALUE=DATE-TIME:20260425T044657Z
UID:63c15c54220e2c5b86016edf464af4eb
CATEGORIES:Monthly Run
CREATED;VALUE=DATE-TIME:20100317T231433Z
DESCRIPTION:We've shifted to the 2nd Sunday of the month to avoid Easter f
 or this monthly run
LAST-MODIFIED;VALUE=DATE-TIME:20100331T231602Z
LOCATION:Christchurch & North Canterbury
URL:https://www.cmsnz.org.nz/events/amazing-april-2010
END:VEVENT
END:VCALENDAR
