BEGIN:VCALENDAR
VERSION:2.0
PRODID:-//Plone.org//NONSGML plone.app.event//EN
X-WR-TIMEZONE:Pacific/Auckland
BEGIN:VEVENT
SUMMARY:Alpine Classic 2013
DTSTART;VALUE=DATE-TIME:20130815T220000Z
DTEND;VALUE=DATE-TIME:20130819T020000Z
DTSTAMP;VALUE=DATE-TIME:20260425T011218Z
UID:12fa00c80c69442ba5378e7f28de6ef2
CATEGORIES:Alpine Classic
CONTACT:Graeme Sharp\, 021 395 944\, sharpish@clear.net.nz
CREATED;VALUE=DATE-TIME:20130503T001206Z
DESCRIPTION:Alpine Classic 2013 is on! Slightly longer this year but we've
  planned some great adventuring in your classic cars.
LAST-MODIFIED;VALUE=DATE-TIME:20130503T001255Z
URL:https://www.cmsnz.org.nz/events/alpine-classic-2013-1
END:VEVENT
END:VCALENDAR
