BEGIN:VCALENDAR
VERSION:2.0
PRODID:-//Plone.org//NONSGML plone.app.event//EN
X-WR-TIMEZONE:Pacific/Auckland
BEGIN:VEVENT
SUMMARY:Alpine Classic 2011
DTSTART;VALUE=DATE-TIME:20110819T000000Z
DTEND;VALUE=DATE-TIME:20110821T040000Z
DTSTAMP;VALUE=DATE-TIME:20260425T025346Z
UID:c633fe68805bc93e469fec85a0fbb9d0
CATEGORIES:Alpine Classic
CONTACT:info@cmsnz.co.nz
CREATED;VALUE=DATE-TIME:20101129T215053Z
DESCRIPTION:2.5 day\, winter adventure run every two years by the Classic 
 Motoring Society of New Zealand. Be prepared for snow!
LAST-MODIFIED;VALUE=DATE-TIME:20110412T005507Z
LOCATION:Oamaru
URL:https://www.cmsnz.org.nz/events/alpine-classic-2011
END:VEVENT
END:VCALENDAR
