BEGIN:VCALENDAR
VERSION:2.0
PRODID:-//Plone.org//NONSGML plone.app.event//EN
X-WR-TIMEZONE:Pacific/Auckland
BEGIN:VEVENT
SUMMARY:Alpine August 2011
DTSTART;VALUE=DATE-TIME:20110806T223000Z
DTEND;VALUE=DATE-TIME:20110807T040000Z
DTSTAMP;VALUE=DATE-TIME:20260425T024608Z
UID:5003388afa0cb827b00ad964eca1ff4b
CATEGORIES:Monthly Run
CONTACT:Mel & Gill Peters\, 03-337 4144\, petersmg@ihug.co.nz
CREATED;VALUE=DATE-TIME:20110508T231527Z
DESCRIPTION:The Classic Motoring Society's regular monthly run is taken on
  an Alpine feel.
LAST-MODIFIED;VALUE=DATE-TIME:20110508T231537Z
LOCATION:Christchurch
URL:https://www.cmsnz.org.nz/events/alpine-august-2011
END:VEVENT
END:VCALENDAR
