BEGIN:VCALENDAR
VERSION:2.0
PRODID:-//Plone.org//NONSGML plone.app.event//EN
X-WR-TIMEZONE:Pacific/Auckland
BEGIN:VEVENT
SUMMARY:Alpine Classic Weekend 2015
DTSTART;VALUE=DATE-TIME:20150612T000000Z
DTEND;VALUE=DATE-TIME:20150614T040000Z
DTSTAMP;VALUE=DATE-TIME:20260425T043309Z
UID:d622bc80aa6f4e71be3a79a1d66276cd
CATEGORIES:Weekend event
CATEGORIES:Alpine Classic
CONTACT:Graeme Sharp\, 021 395 944\, info@saabclassics.net
CREATED;VALUE=DATE-TIME:20150125T221112Z
DESCRIPTION:Our biennial Alpine Classic tour is on again but its early!!
LAST-MODIFIED;VALUE=DATE-TIME:20150319T072300Z
LOCATION:Hanmer Springs
URL:https://www.cmsnz.org.nz/events/alpine%20classic-weekend-2015
END:VEVENT
END:VCALENDAR
