BEGIN:VCALENDAR
VERSION:2.0
PRODID:-//Plone.org//NONSGML plone.app.event//EN
X-WR-TIMEZONE:Pacific/Auckland
BEGIN:VEVENT
SUMMARY:Alpinal August 2013
DTSTART;VALUE=DATE-TIME:20130803T223000Z
DTEND;VALUE=DATE-TIME:20130804T040000Z
DTSTAMP;VALUE=DATE-TIME:20260425T025926Z
UID:ef1298445f2744689c6f4a2f5307ce39
CATEGORIES:Monthly Run
CONTACT:Mel Peters\, 03 337 4144\, petersmg@ihug.co.nz
CREATED;VALUE=DATE-TIME:20130627T225836Z
DESCRIPTION:With the Alpine Classic 2013 later this month\, we thought an 
 alpinal feel would be appropriate for this month's CMSNZ monthly run.
LAST-MODIFIED;VALUE=DATE-TIME:20130627T225849Z
LOCATION:Christchurch & Canterbury
URL:https://www.cmsnz.org.nz/events/alpinal-august-2013
END:VEVENT
END:VCALENDAR
