BEGIN:VCALENDAR
VERSION:2.0
PRODID:-//Plone.org//NONSGML plone.app.event//EN
X-WR-TIMEZONE:Pacific/Auckland
BEGIN:VEVENT
SUMMARY:All Ford Day 2014
DTSTART;VALUE=DATE-TIME:20140222T211000Z
DTEND;VALUE=DATE-TIME:20140223T020000Z
DTSTAMP;VALUE=DATE-TIME:20260425T043442Z
UID:bf34ddbef1344b398d81b109da4d0ce7
CREATED;VALUE=DATE-TIME:20140218T201558Z
DESCRIPTION:This is NOT a CMSNZ event
LAST-MODIFIED;VALUE=DATE-TIME:20140218T202020Z
LOCATION:Wigram Airforce Museum\, Christchurch
URL:https://www.cmsnz.org.nz/events/all-ford-day-2014
END:VEVENT
END:VCALENDAR
