BEGIN:VCALENDAR
VERSION:2.0
PRODID:-//Plone.org//NONSGML plone.app.event//EN
X-WR-TIMEZONE:Pacific/Auckland
BEGIN:VEVENT
SUMMARY:Akaroa Escape Weekend
DTSTART;VALUE=DATE-TIME:20100730T060000Z
DTEND;VALUE=DATE-TIME:20100801T060000Z
DTSTAMP;VALUE=DATE-TIME:20260425T043300Z
UID:77677036e4f61a6f49ada30c668701b4
CATEGORIES:Weekend event
CONTACT:Mel & Gill Peters\, (03) 337 4144\, petersmg@ihug.co.nz
CREATED;VALUE=DATE-TIME:20100331T233112Z
DESCRIPTION:The Classic Motoring Society takes on the French!
LAST-MODIFIED;VALUE=DATE-TIME:20100610T050103Z
LOCATION:Akaroa
URL:https://www.cmsnz.org.nz/events/akaroa-escape-weekend
END:VEVENT
END:VCALENDAR
