BEGIN:VCALENDAR
VERSION:2.0
PRODID:-//Plone.org//NONSGML plone.app.event//EN
X-WR-TIMEZONE:Pacific/Auckland
BEGIN:VEVENT
SUMMARY:AGM 2016
DTSTART;VALUE=DATE-TIME:20160703T010000Z
DTEND;VALUE=DATE-TIME:20160703T020000Z
DTSTAMP;VALUE=DATE-TIME:20260425T024936Z
UID:754c4d4e79af4b39a965fa8c1ff96b6d
CATEGORIES:AGM
CONTACT:Gill Peters\, 021 216 0186\, classicmotoringsocietynzinc@gmail.com
CREATED;VALUE=DATE-TIME:20160610T025943Z
DESCRIPTION:The Annual General Meeting for The Classic Motoring Society of
  New Zealand Inc.
LAST-MODIFIED;VALUE=DATE-TIME:20160610T030736Z
LOCATION:Rangiora
URL:https://www.cmsnz.org.nz/events/agm-2016
END:VEVENT
END:VCALENDAR
