BEGIN:VCALENDAR
VERSION:2.0
PRODID:-//Plone.org//NONSGML plone.app.event//EN
X-WR-TIMEZONE:Pacific/Auckland
BEGIN:VEVENT
SUMMARY:AGM 2014
DTSTART;VALUE=DATE-TIME:20140706T020000Z
DTEND;VALUE=DATE-TIME:20140706T030000Z
DTSTAMP;VALUE=DATE-TIME:20260425T011129Z
UID:761ac40f44ef41fda36594c67e5cf01c
CATEGORIES:AGM
CREATED;VALUE=DATE-TIME:20140424T022629Z
DESCRIPTION:Our AGM will follow on from our first Sunday of the month run.
LAST-MODIFIED;VALUE=DATE-TIME:20140424T022640Z
LOCATION:Filedelfios\, Christchurch
URL:https://www.cmsnz.org.nz/events/agm-2014
END:VEVENT
END:VCALENDAR
