BEGIN:VCALENDAR
VERSION:2.0
PRODID:-//Plone.org//NONSGML plone.app.event//EN
X-WR-TIMEZONE:Pacific/Auckland
BEGIN:VEVENT
SUMMARY:AGM 2013
DTSTART;VALUE=DATE-TIME:20130617T070000Z
DTEND;VALUE=DATE-TIME:20130617T083000Z
DTSTAMP;VALUE=DATE-TIME:20260425T025138Z
UID:80ecda7eaaab4690a00bc26b0ee83192
CATEGORIES:AGM
CONTACT:Stephanie Royds\, info@cmsnz.co.nz
CREATED;VALUE=DATE-TIME:20130327T021221Z
DESCRIPTION:Annual General Meeting for 2013
LAST-MODIFIED;VALUE=DATE-TIME:20130401T072216Z
LOCATION:Upper Riccarton Library\, Christchurch
URL:https://www.cmsnz.org.nz/events/agm-2013
END:VEVENT
END:VCALENDAR
