BEGIN:VCALENDAR
VERSION:2.0
PRODID:-//Plone.org//NONSGML plone.app.event//EN
X-WR-TIMEZONE:Pacific/Auckland
BEGIN:VEVENT
SUMMARY:AGM 2012
DTSTART;VALUE=DATE-TIME:20120619T070000Z
DTEND;VALUE=DATE-TIME:20120619T083000Z
DTSTAMP;VALUE=DATE-TIME:20260425T024842Z
UID:2c7d56a2570548d98bba05e156f13bfe
CATEGORIES:AGM
CONTACT:S Royds\, 03-341 3141\, info@cmsnz.co.nz
CREATED;VALUE=DATE-TIME:20110418T215241Z
DESCRIPTION:The 2012 Annual General Meeting of the Classic Motoring Societ
 y of New Zealand Incorporated.
LAST-MODIFIED;VALUE=DATE-TIME:20120503T090401Z
LOCATION:Christchurch
URL:https://www.cmsnz.org.nz/events/agm-2012
END:VEVENT
END:VCALENDAR
