BEGIN:VCALENDAR
VERSION:2.0
PRODID:-//Plone.org//NONSGML plone.app.event//EN
X-WR-TIMEZONE:Pacific/Auckland
BEGIN:VEVENT
SUMMARY:AGM 2011
DTSTART;VALUE=DATE-TIME:20110705T070000Z
DTEND;VALUE=DATE-TIME:20110705T083000Z
DTSTAMP;VALUE=DATE-TIME:20260425T025004Z
UID:b4907b61cd9e88760871ea7528070017
CATEGORIES:AGM
CONTACT:S Royds\, 03-341 3141\, info@cmsnz.co.nz
CREATED;VALUE=DATE-TIME:20110418T215241Z
DESCRIPTION:The 2011 Annual General Meeting of the Classic Motoring Societ
 y of New Zealand Incorporated.
LAST-MODIFIED;VALUE=DATE-TIME:20110624T042832Z
LOCATION:Christchurch
URL:https://www.cmsnz.org.nz/events/agm-2011
END:VEVENT
END:VCALENDAR
