BEGIN:VCALENDAR
VERSION:2.0
PRODID:-//Plone.org//NONSGML plone.app.event//EN
X-WR-TIMEZONE:Pacific/Auckland
BEGIN:VEVENT
SUMMARY:AGM 2010
DTSTART;VALUE=DATE-TIME:20100622T070000Z
DTEND;VALUE=DATE-TIME:20100622T082000Z
DTSTAMP;VALUE=DATE-TIME:20260425T025503Z
UID:d04ff561a40f016349a3b5149022facf
CATEGORIES:AGM
CONTACT:S Royds\, 03-341 3141\, info@cmsnz.org.nz
CREATED;VALUE=DATE-TIME:20100511T072943Z
DESCRIPTION:The AGM of the Classic Motoring Society will be held on 22nd J
 une\, 2010
LAST-MODIFIED;VALUE=DATE-TIME:20100517T030801Z
LOCATION:Christchurch
URL:https://www.cmsnz.org.nz/events/agm-2010
END:VEVENT
END:VCALENDAR
