BEGIN:VCALENDAR
VERSION:2.0
PRODID:-//Plone.org//NONSGML plone.app.event//EN
X-WR-TIMEZONE:Pacific/Auckland
BEGIN:VEVENT
SUMMARY:AGM 2009
DTSTART;VALUE=DATE-TIME:20090609T070000Z
DTEND;VALUE=DATE-TIME:20090609T090000Z
DTSTAMP;VALUE=DATE-TIME:20260425T030238Z
UID:685a9edf157295c9b8b91389275b9b02
CONTACT:03-341 3141\, info@cmsnz.org.nz
CREATED;VALUE=DATE-TIME:20090428T225140Z
LAST-MODIFIED;VALUE=DATE-TIME:20090428T225151Z
LOCATION:Christchurch
URL:https://www.cmsnz.org.nz/events/agm-2009
END:VEVENT
END:VCALENDAR
