BEGIN:VCALENDAR
VERSION:2.0
PRODID:-//Plone.org//NONSGML plone.app.event//EN
X-WR-TIMEZONE:Pacific/Auckland
BEGIN:VEVENT
SUMMARY:AGM 2007
DTSTART;VALUE=DATE-TIME:20070623T223000Z
DTEND;VALUE=DATE-TIME:20070623T233000Z
DTSTAMP;VALUE=DATE-TIME:20260425T011117Z
UID:731802be1293e9b3fcfd3caf7ac2233e
CREATED;VALUE=DATE-TIME:20070410T235918Z
DESCRIPTION:Once again\, the Classic Motoring Society of New Zealand Inc. 
 AGM will follow on from our Dawnbreaker Run.
LAST-MODIFIED;VALUE=DATE-TIME:20070719T212217Z
URL:https://www.cmsnz.org.nz/events/agm-2007
END:VEVENT
END:VCALENDAR
