BEGIN:VCALENDAR
VERSION:2.0
PRODID:-//Plone.org//NONSGML plone.app.event//EN
X-WR-TIMEZONE:Pacific/Auckland
BEGIN:VEVENT
SUMMARY:20th Henry Ford Memorial Rally
DTSTART;VALUE=DATE-TIME:20130927T220000Z
DTEND;VALUE=DATE-TIME:20130928T020000Z
DTSTAMP;VALUE=DATE-TIME:20260425T011534Z
UID:155de5a6611a42d49fd96f6bcf1105be
CONTACT:Trevor Stanley\, stancar_nzcc@hotmail.com
CREATED;VALUE=DATE-TIME:20130827T040636Z
DESCRIPTION:This is not a CMSNZ run event
LAST-MODIFIED;VALUE=DATE-TIME:20130827T040702Z
LOCATION:Christchurch
URL:https://www.cmsnz.org.nz/events/20th-henry-ford-memorial-rally
END:VEVENT
END:VCALENDAR
