BEGIN:VCALENDAR
VERSION:2.0
PRODID:-//Plone.org//NONSGML plone.app.event//EN
X-WR-TIMEZONE:Pacific/Auckland
BEGIN:VEVENT
SUMMARY:2026 NITSI Marathon
DTSTART;VALUE=DATE:20260430
DTEND;VALUE=DATE:20260508
DTSTAMP;VALUE=DATE-TIME:20260420T153435Z
UID:76f824cd1e844816ae5f3a0738389f9d
CREATED;VALUE=DATE-TIME:20250714T085715Z
DESCRIPTION:Club's annual Marathon Tour
LAST-MODIFIED;VALUE=DATE-TIME:20260126T234542Z
LOCATION:Lower half of the North Island
URL:https://www.cmsnz.org.nz/events/2026-nitsi-marathon
END:VEVENT
END:VCALENDAR
