BEGIN:VCALENDAR
VERSION:2.0
PRODID:-//Plone.org//NONSGML plone.app.event//EN
X-WR-TIMEZONE:Pacific/Auckland
BEGIN:VEVENT
SUMMARY:13th Annual North Canterbury Classic Tour
DTSTART;VALUE=DATE-TIME:20150321T201500Z
DTEND;VALUE=DATE-TIME:20150322T030000Z
DTSTAMP;VALUE=DATE-TIME:20260425T005829Z
UID:1cc1cea47a65459cb7effb76c1f41265
CONTACT:Trevor Stanley
CREATED;VALUE=DATE-TIME:20150224T051213Z
DESCRIPTION:This is NOT a Classic Motoring Society event
LAST-MODIFIED;VALUE=DATE-TIME:20150224T051503Z
LOCATION:Christchurch - North Canterbury
URL:https://www.cmsnz.org.nz/events/13th-annual-north-canterbury-classic-t
 our
END:VEVENT
END:VCALENDAR
