BEGIN:VCALENDAR
VERSION:2.0
PRODID:-//Plone.org//NONSGML plone.app.event//EN
X-WR-TIMEZONE:Pacific/Auckland
BEGIN:VEVENT
SUMMARY:10th NZ National Classic Car Rally
DTSTART;VALUE=DATE-TIME:20121013T110000Z
DTEND;VALUE=DATE-TIME:20121019T110000Z
DTSTAMP;VALUE=DATE-TIME:20260425T005810Z
UID:a7e10db4e5fa4585ba0131d71708eeb0
CONTACT:Roy Hughes\, royhsyncom@xtra.co.nz
CREATED;VALUE=DATE-TIME:20120321T045925Z
DESCRIPTION:This is not a Classic Motoring Society of NZ event.
LAST-MODIFIED;VALUE=DATE-TIME:20120321T045952Z
URL:https://www.cmsnz.org.nz/events/10th-nz-national-classic-car-rally
END:VEVENT
END:VCALENDAR
